BEGIN:VCALENDAR
VERSION:2.0
PRODID:-//Gemini S - ECPv6.15.20//NONSGML v1.0//EN
CALSCALE:GREGORIAN
METHOD:PUBLISH
X-ORIGINAL-URL:https://gemini-s.nl
X-WR-CALDESC:Evenementen voor Gemini S
REFRESH-INTERVAL;VALUE=DURATION:PT1H
X-Robots-Tag:noindex
X-PUBLISHED-TTL:PT1H
BEGIN:VTIMEZONE
TZID:UTC
BEGIN:STANDARD
TZOFFSETFROM:+0000
TZOFFSETTO:+0000
TZNAME:UTC
DTSTART:20210101T000000
END:STANDARD
END:VTIMEZONE
BEGIN:VEVENT
DTSTART;TZID=UTC:20220219T170000
DTEND;TZID=UTC:20220219T210000
DTSTAMP:20260419T210245
CREATED:20220107T125247Z
LAST-MODIFIED:20220107T125247Z
UID:1427-1645290000-1645304400@gemini-s.nl
SUMMARY:Thuiswedstrijden
DESCRIPTION:17:00\nGemini S HS 5\nSalvo ’67 HS 2\n\n\n17:00\nGemini S HS 2\nK.V.A. HS 1\n\n\n19:00\nGemini S DS 1\nTeam Imbema US DS 3\n\n\n19:00\nGemini S DS 2\nSAS’70 DS 2\n\n\n19:00\nGemini S HS 4\nAlmere Buiten HS 3
URL:https://gemini-s.nl/event/thuiswedstrijden-4/
END:VEVENT
BEGIN:VEVENT
DTSTART;TZID=UTC:20220218T190000
DTEND;TZID=UTC:20220218T230000
DTSTAMP:20260419T210245
CREATED:20220107T125155Z
LAST-MODIFIED:20220107T125155Z
UID:1425-1645210800-1645225200@gemini-s.nl
SUMMARY:Thuiswedstrijden
DESCRIPTION:19:00\nGemini S DS 3\nSovoco DS 2\n\n\n21:00\nGemini S DS 4\nVC Allvo DS 5\n\n\n21:00\nGemini S HS 3\nAMVJ-Martinus HS 3
URL:https://gemini-s.nl/event/thuiswedstrijden-3/
END:VEVENT
BEGIN:VEVENT
DTSTART;TZID=UTC:20220214T210000
DTEND;TZID=UTC:20220214T230000
DTSTAMP:20260419T210245
CREATED:20220107T125112Z
LAST-MODIFIED:20220107T125112Z
UID:1423-1644872400-1644879600@gemini-s.nl
SUMMARY:Thuiswedstrijd
DESCRIPTION:21:00\nGemini S HS 1\nSpaarnestad HS 3
URL:https://gemini-s.nl/event/thuiswedstrijd/
END:VEVENT
BEGIN:VEVENT
DTSTART;TZID=UTC:20220205T170000
DTEND;TZID=UTC:20220205T210000
DTSTAMP:20260419T210245
CREATED:20220107T124856Z
LAST-MODIFIED:20220107T124856Z
UID:1421-1644080400-1644094800@gemini-s.nl
SUMMARY:Thuiswedstrijden
DESCRIPTION:17:00\nGemini S DS 1\nvv Jonas DS 1\n\n\n17:00\nGemini S HS 4\nPrima Donna Kaas Huizen HS 5\n\n\n19:00\nGemini S DS 2\nVCH DS 3\n\n\n19:00\nGemini S HS 5\nOberon HS 3\n\n\n19:00\nGemini S HS 2\nEnervo HS 1
URL:https://gemini-s.nl/event/thuiswedstrijden-2/
END:VEVENT
END:VCALENDAR